BEGIN:VCALENDAR
VERSION:2.0
PRODID:-//Ukrainian American Cultural Center of New Jersey - ECPv6.15.20//NONSGML v1.0//EN
CALSCALE:GREGORIAN
METHOD:PUBLISH
X-WR-CALNAME:Ukrainian American Cultural Center of New Jersey
X-ORIGINAL-URL:https://uaccnj.org
X-WR-CALDESC:Events for Ukrainian American Cultural Center of New Jersey
REFRESH-INTERVAL;VALUE=DURATION:PT1H
X-Robots-Tag:noindex
X-PUBLISHED-TTL:PT1H
BEGIN:VTIMEZONE
TZID:America/New_York
BEGIN:DAYLIGHT
TZOFFSETFROM:-0500
TZOFFSETTO:-0400
TZNAME:EDT
DTSTART:20200308T070000
END:DAYLIGHT
BEGIN:STANDARD
TZOFFSETFROM:-0400
TZOFFSETTO:-0500
TZNAME:EST
DTSTART:20201101T060000
END:STANDARD
BEGIN:DAYLIGHT
TZOFFSETFROM:-0500
TZOFFSETTO:-0400
TZNAME:EDT
DTSTART:20210314T070000
END:DAYLIGHT
BEGIN:STANDARD
TZOFFSETFROM:-0400
TZOFFSETTO:-0500
TZNAME:EST
DTSTART:20211107T060000
END:STANDARD
BEGIN:DAYLIGHT
TZOFFSETFROM:-0500
TZOFFSETTO:-0400
TZNAME:EDT
DTSTART:20220313T070000
END:DAYLIGHT
BEGIN:STANDARD
TZOFFSETFROM:-0400
TZOFFSETTO:-0500
TZNAME:EST
DTSTART:20221106T060000
END:STANDARD
END:VTIMEZONE
BEGIN:VEVENT
DTSTART;TZID=America/New_York:20210918T090000
DTEND;TZID=America/New_York:20210918T120000
DTSTAMP:20260420T033709
CREATED:20210909T000042Z
LAST-MODIFIED:20210913T013914Z
UID:3173-1631955600-1631966400@uaccnj.org
SUMMARY:Free Shred-It event that Selfreliance FCU is running in Whippany
DESCRIPTION:Spreading the word about a free Shred-It event that Selfreliance FCU is running in Whippany on Saturday\, September 18th between 9 am – 12 noon.\nThis event is for members of Selfreliance FCU and the community.\nIt will enable individuals to shred up to 3 boxes of sensitive documents with return trips permitted.   \nThis pertains to paper documents and CD’s.  Other restrictions may apply.
URL:https://uaccnj.org/event/free-shred-it-event-that-selfreliance-fcu-is-running-in-whippany-september-2021/
LOCATION:Ukrainian American Cultural Center of New Jersey\, 60 N Jefferson Rd\,\, Whippany\, NJ\, 07981\, United States
CATEGORIES:Main Hall - 2/3,Main Hall - center,Multipurpose room,Multipurpose room B,Room Main Hall,Ukrainian community
ATTACH;FMTTYPE=image/jpeg:https://uaccnj.org/wp-content/uploads/2021/09/Shred-it_Closing_fees-copy-scaled.jpg
END:VEVENT
BEGIN:VEVENT
DTSTART;TZID=America/New_York:20210925T113000
DTEND;TZID=America/New_York:20210925T180000
DTSTAMP:20260420T033709
CREATED:20210801T193615Z
LAST-MODIFIED:20210918T154843Z
UID:3108-1632569400-1632592800@uaccnj.org
SUMMARY:12th Annual Ukrainian Festival
DESCRIPTION:We’re back!\nWe’re happy to announce that our 12th Annual Ukrainian Festival will be held on Saturday\, September 25!\nGreat food\, exciting entertainment\, a wonderful time – all in support of a great cause!\nWatch this space\, our Facebook page\, and our website – www.uaccnj.org – for more info\, which will be posted as it becomes available.
URL:https://uaccnj.org/event/12th-annual-ukrainian-festival/
LOCATION:Ukrainian American Cultural Center of New Jersey\, 60 N Jefferson Rd\,\, Whippany\, NJ\, 07981\, United States
CATEGORIES:Main Hall - 2/3,Main Hall - center,Room GYM,Room Library,Room Main Hall,Room Small Hall,The Hoverlia Social Club
ATTACH;FMTTYPE=image/jpeg:https://uaccnj.org/wp-content/uploads/2021/08/Annual-Ukrainian-Festivals.jpg
ORGANIZER;CN="Ukrainian American Cultural Center of New Jersey":MAILTO:uaccnj@gmail.com
END:VEVENT
BEGIN:VEVENT
DTSTART;VALUE=DATE:20210928
DTEND;VALUE=DATE:20211001
DTSTAMP:20260420T033709
CREATED:20210924T010537Z
LAST-MODIFIED:20210924T011719Z
UID:3186-1632787200-1633046399@uaccnj.org
SUMMARY:We’re accepting new students!
DESCRIPTION:We’re accepting new students! Іскра запрошує нових учнів.\nNew pre-dance students (those not yet in 1st grade or not 6 years old by Sep. 1) are welcome Tuesdays from 4:15-5:15 p.m. \nPlacement classes for students in 1st grade OR 6 years old by Sep. 1 or older: \n\n\n\n\nDay\nAge\nTime\n\n\n\n\nSep. 28\nages 6-8\n5:30-7\n\n\n\nages 9-12\n7 – 8:30\n\n\nSep. 30\nages 13 and up\n5:30-7\n\n\n\n\nAdult dance fitness classes are held Wednesdays\, 7-8:15 p.m. Come any week! \nPlease e-mail IskraBoard@gmail.com for more information. \nFor more information about Iskra\, please visit www.iskradance.weebly.com. \nIskra\, We’re accepting new students!
URL:https://uaccnj.org/event/iskra-accepting-new-students-2021/
LOCATION:Ukrainian American Cultural Center of New Jersey\, 60 N Jefferson Rd\,\, Whippany\, NJ\, 07981\, United States
CATEGORIES:Main Hall - 2/3,Main Hall - center,Room Main Hall
ATTACH;FMTTYPE=image/jpeg:https://uaccnj.org/wp-content/uploads/2020/03/organization-Iskra.jpg
END:VEVENT
END:VCALENDAR