BEGIN:VCALENDAR
VERSION:2.0
PRODID:-//Ukrainian American Cultural Center of New Jersey - ECPv6.15.20//NONSGML v1.0//EN
CALSCALE:GREGORIAN
METHOD:PUBLISH
X-ORIGINAL-URL:https://uaccnj.org
X-WR-CALDESC:Events for Ukrainian American Cultural Center of New Jersey
REFRESH-INTERVAL;VALUE=DURATION:PT1H
X-Robots-Tag:noindex
X-PUBLISHED-TTL:PT1H
BEGIN:VTIMEZONE
TZID:America/New_York
BEGIN:DAYLIGHT
TZOFFSETFROM:-0500
TZOFFSETTO:-0400
TZNAME:EDT
DTSTART:20240310T070000
END:DAYLIGHT
BEGIN:STANDARD
TZOFFSETFROM:-0400
TZOFFSETTO:-0500
TZNAME:EST
DTSTART:20241103T060000
END:STANDARD
BEGIN:DAYLIGHT
TZOFFSETFROM:-0500
TZOFFSETTO:-0400
TZNAME:EDT
DTSTART:20250309T070000
END:DAYLIGHT
BEGIN:STANDARD
TZOFFSETFROM:-0400
TZOFFSETTO:-0500
TZNAME:EST
DTSTART:20251102T060000
END:STANDARD
BEGIN:DAYLIGHT
TZOFFSETFROM:-0500
TZOFFSETTO:-0400
TZNAME:EDT
DTSTART:20260308T070000
END:DAYLIGHT
BEGIN:STANDARD
TZOFFSETFROM:-0400
TZOFFSETTO:-0500
TZNAME:EST
DTSTART:20261101T060000
END:STANDARD
END:VTIMEZONE
BEGIN:VEVENT
DTSTART;TZID=America/New_York:20251221T100000
DTEND;TZID=America/New_York:20251221T140000
DTSTAMP:20260421T044320
CREATED:20251118T033110Z
LAST-MODIFIED:20251118T033238Z
UID:4693-1766311200-1766325600@uaccnj.org
SUMMARY:Christmas Bazaar
DESCRIPTION:Sponsored by: ST. JOHNTHE BAPTIST UK RAINIAN CATHOLIC CHURCH\nSUNDAY ~ DECEMBER 21\, 2025\n10:00 A.M. – 2:00 P.M. \nTo be held at: UKRAINIAN AMERICAN CULTURAL CENTER OF NEW JERSEY\n60 North Jefferson Road\, Whippany\, NJ \nFeaturing Ukrainian and holiday crafts\, jewelry\, and more for your shopping pleasure. In addition\, homemade Ukrainian food and baked goods will also be for sale.\nPlease come and join us. \nFor more information\, contact Marta at 203-667-4238
URL:https://uaccnj.org/event/christmas-bazaar-2025/
LOCATION:Ukrainian American Cultural Center of New Jersey\, 60 N Jefferson Rd\,\, Whippany\, NJ\, 07981\, United States
CATEGORIES:Main Hall - 2/3,Main Hall - center,Multipurpose room,Multipurpose room B,Room Library,Room Main Hall,Room Small Hall,upcoming events
ATTACH;FMTTYPE=image/jpeg:https://uaccnj.org/wp-content/uploads/2025/11/2025-Christmas-Bazaar-Flyer-Dec21.jpg
ORGANIZER;CN="St. John the Baptist Ukrainian Catholic Church":MAILTO:stjohnukrcc@gmail.com
END:VEVENT
END:VCALENDAR