BEGIN:VCALENDAR
VERSION:2.0
PRODID:-//Ukrainian American Cultural Center of New Jersey - ECPv6.15.20//NONSGML v1.0//EN
CALSCALE:GREGORIAN
METHOD:PUBLISH
X-WR-CALNAME:Ukrainian American Cultural Center of New Jersey
X-ORIGINAL-URL:https://uaccnj.org
X-WR-CALDESC:Events for Ukrainian American Cultural Center of New Jersey
REFRESH-INTERVAL;VALUE=DURATION:PT1H
X-Robots-Tag:noindex
X-PUBLISHED-TTL:PT1H
BEGIN:VTIMEZONE
TZID:America/New_York
BEGIN:DAYLIGHT
TZOFFSETFROM:-0500
TZOFFSETTO:-0400
TZNAME:EDT
DTSTART:20190310T070000
END:DAYLIGHT
BEGIN:STANDARD
TZOFFSETFROM:-0400
TZOFFSETTO:-0500
TZNAME:EST
DTSTART:20191103T060000
END:STANDARD
BEGIN:DAYLIGHT
TZOFFSETFROM:-0500
TZOFFSETTO:-0400
TZNAME:EDT
DTSTART:20200308T070000
END:DAYLIGHT
BEGIN:STANDARD
TZOFFSETFROM:-0400
TZOFFSETTO:-0500
TZNAME:EST
DTSTART:20201101T060000
END:STANDARD
BEGIN:DAYLIGHT
TZOFFSETFROM:-0500
TZOFFSETTO:-0400
TZNAME:EDT
DTSTART:20210314T070000
END:DAYLIGHT
BEGIN:STANDARD
TZOFFSETFROM:-0400
TZOFFSETTO:-0500
TZNAME:EST
DTSTART:20211107T060000
END:STANDARD
END:VTIMEZONE
BEGIN:VEVENT
DTSTART;TZID=America/New_York:20200826T183000
DTEND;TZID=America/New_York:20200827T220000
DTSTAMP:20260424T184549
CREATED:20200824T181758Z
LAST-MODIFIED:20200824T181758Z
UID:2092-1598466600-1598565600@uaccnj.org
SUMMARY:Hoverlia will be Open This Wednesday & Thursday 6:30-10:00 pm
DESCRIPTION:Our Social Club will be OPEN Wednesday & Thursday\,  August 26-27\nFrom 6:30 pm – 10:00 pm. \nHope we see you there. \nThank You\,\nMichael N. Halibej
URL:https://uaccnj.org/event/hoverlia-open-aug-24-2020/
LOCATION:The Hoverlia Social Club\, 60 N Jefferson Rd\,\, Whippany\, NJ\, 07981\, United States
CATEGORIES:The Hoverlia Social Club
ATTACH;FMTTYPE=image/png:https://uaccnj.org/wp-content/uploads/2020/03/Hoverlia_logo.png
ORGANIZER;CN="The Hoverlia Social Club":MAILTO:hoverliasocialclub@gmail.com
END:VEVENT
BEGIN:VEVENT
DTSTART;TZID=America/New_York:20200819T180000
DTEND;TZID=America/New_York:20200820T220000
DTSTAMP:20260424T184549
CREATED:20200814T180041Z
LAST-MODIFIED:20200814T183922Z
UID:2065-1597860000-1597960800@uaccnj.org
SUMMARY:Hoverlia will be Open This Wednesday & Thursday 6-10:00 pm
DESCRIPTION:Our Social Club will be OPEN Wednesday & Thursday\,  August 19-20\nFrom 6:00 pm – 10:00 pm. \nHope we see you there. \nThank You\,\nMichael N. Halibej
URL:https://uaccnj.org/event/hoverlia-open-aug-14-2020/
LOCATION:The Hoverlia Social Club\, 60 N Jefferson Rd\,\, Whippany\, NJ\, 07981\, United States
CATEGORIES:The Hoverlia Social Club
ATTACH;FMTTYPE=image/png:https://uaccnj.org/wp-content/uploads/2020/03/Hoverlia_logo.png
ORGANIZER;CN="The Hoverlia Social Club":MAILTO:hoverliasocialclub@gmail.com
END:VEVENT
BEGIN:VEVENT
DTSTART;TZID=America/New_York:20200811T180000
DTEND;TZID=America/New_York:20200812T220000
DTSTAMP:20260424T184549
CREATED:20200811T171423Z
LAST-MODIFIED:20200811T180308Z
UID:2027-1597168800-1597269600@uaccnj.org
SUMMARY:Hoverlia will be Open This Tuesday & Wednesday 6-10:00 pm
DESCRIPTION:Our Social Club will be OPEN Tuesday\,  August 11th and Wednesday\, August 12th\nFrom 6:00 pm – 10:00 pm. \nHope we see you there. \nThank You\,\nMichael N. Halibej
URL:https://uaccnj.org/event/hoverlia-open-aug-11-2020/
LOCATION:The Hoverlia Social Club\, 60 N Jefferson Rd\,\, Whippany\, NJ\, 07981\, United States
CATEGORIES:The Hoverlia Social Club
ATTACH;FMTTYPE=image/png:https://uaccnj.org/wp-content/uploads/2020/03/Hoverlia_logo.png
ORGANIZER;CN="The Hoverlia Social Club":MAILTO:hoverliasocialclub@gmail.com
END:VEVENT
BEGIN:VEVENT
DTSTART;TZID=America/New_York:20200719T130000
DTEND;TZID=America/New_York:20200719T150000
DTSTAMP:20260424T184549
CREATED:20200712T160049Z
LAST-MODIFIED:20200717T142847Z
UID:1876-1595163600-1595170800@uaccnj.org
SUMMARY:Support our Center! Support our Community!
DESCRIPTION:Our virtual fundraiser includes not only an amazing concert but also a silent auction. Some auction items have already been posted – look for more to be added soon. Check the Event on our Facebook page often! \nAmazing auctions\nYou are invited to a Virtual Concert-Fundraiser.\nWhen: Jul 19\, 2020\, 01:00 PM Eastern Time (US and Canada)\nTopic: Virtual Concert-Fundraiser to support Ukrainian American Cultural Center\, in Whippany\, NJ.\nRegister in advance for this Virtual Concert-Fundraiser:\nhttps://us02web.zoom.us/webinar/register/WN_TcSLNmaATpKKGbN8KxNKNQ \nRegister in advance\n(After registering\, you will receive a confirmation email containing information about joining the webinar.) \nUnity is strength. When there are teamwork and collaboration\, wonderful things can be achieved! \nSupport UACCNJ Center\n \nFor almost 14 years the UACCNJ has been our community’s home\, a place to learn\, work\, celebrate\, and stay connected with each other. During these difficult times\, we are making every effort to ensure that the center will remain a home for many generations to come. Please support our virtual fundraiser for YOUR SECOND HOME\, the Ukrainian American Cultural Center\, in Whippany\, NJ. \nAll of the center’s organizations – St. John the Baptist Ukrainian Catholic Church\, Plast\, CYM\, Ridna Shkola\, Ukrainian Learning Academy\, Iskra Ukrainian Dance Ensemble and Academy\, Sitch\, Lys Sports Academy\, Ukrainian Music Institute\, Ukrainian Women’s League of America\, UMANA\, Ukrainian American Business and Professionals Association\, UCCA Morris County\, and Selfreliance FCU – have come together as a unified front to cherish and preserve the place we call HOME\, UACCNJ. \nPlease support our virtual fundraising. The UACCNJ depends on rentals and donations; however\, our Center remains closed per the pandemic guidelines. Now\, more than ever we need YOUR support. \nДопомагаючи нашому Центрові\, Ви підтримуєте нашу громаду\, Bаших дітей\, і зберігаєте домівку для майбутьніх поколінь! В єдності—наша сила! \nПротягом майже 14 років\, УАКЦНД є домом нашої громади\, місцем для навчання\, роботи\, святкування\, та місцем зустрічі з близькими друзями. У ці важкі часи ми докладаємо всіх зусиль для того\, щоб центр залишився домом для багатьох майбутніх поколінь. Запрошуємо приєднатись до Благодійного Концерту на підтримку Українського Культурного Центру у Whippany\, NJ. \nЯк одна велика родина\, всі організації в центрі – Українська Католицька Церква св. Іван Хрестителя\, ПЛАСТ\, СУМ\, Суботня Школа Українознавства імені Лесі Українки\, Український Садочок\, Школа українського народного танцю і Ансамбль Іскра\, Спортивна організація Чорноморська Січ\, Лис Спортивний Клюб\, Український Музичний Інститут\, Союзу Українок Америки\, Відділ Українського Конгресового Комітету\, Українське Лікарське Товариство Північної Америки\, Українська Американська Асоціація Професіоналів та Бізнесменів\, Федеральна Кредитівка Самопоміч\, – об’єдналися щоб допомогти центрові\, Вашій РІДНІЙ ДОМІВЦІ\, у важку хвилину пандемії. \nВ час коли ми всі закриті в своїх помешканях\, приєднюйтесь до нашого віртуального Свята та підтримайте Український Центр. \n 
URL:https://uaccnj.org/event/support-our-community-2020/
LOCATION:Ukrainian American Cultural Center of New Jersey\, 60 N Jefferson Rd\,\, Whippany\, NJ\, 07981\, United States
CATEGORIES:Online
ATTACH;FMTTYPE=image/png:https://uaccnj.org/wp-content/uploads/2020/07/Virtual-Concert-July-19-2020.png
ORGANIZER;CN="Ukrainian American Cultural Center of New Jersey":MAILTO:uaccnj@gmail.com
END:VEVENT
BEGIN:VEVENT
DTSTART;TZID=America/New_York:20200711T180000
DTEND;TZID=America/New_York:20200711T190000
DTSTAMP:20260424T184549
CREATED:20200708T120031Z
LAST-MODIFIED:20200710T163841Z
UID:1863-1594490400-1594494000@uaccnj.org
SUMMARY:UHEC Presents: Ukrainian Music of Summer
DESCRIPTION:An evening of Ukrainian summer cycle folk songs and wreath-making. \nJoin us for this exploration of summer cycle folk songs of Ukraine and learn about other summer traditions\, including wreath-making. We are fortunate to have Zoya and Sana Shepko of the Korinya: Ukrainian Folk Band\, who will share their interpretations of Ukrainian summer songs. Their mother\, Halyna Shepko\, will show how to make a wreath from summer field flowers. \nThis event is FREE will take place ONLINE\, however\, registration is required. Spots are limited\, so register today! \nread more
URL:https://uaccnj.org/event/uhec-presents-ukrainian-music-of-summer-july-2020/
LOCATION:The Ukrainian History and Education Center\, 135 Davidson Avenue\, Somerset\, NJ\, 08873\, United States
CATEGORIES:Online
ATTACH;FMTTYPE=image/jpeg:https://uaccnj.org/wp-content/uploads/2020/07/Ukrainian-Music-of-Summer-Jul-2020-scaled.jpg
ORGANIZER;CN="The Ukrainian History and Education Center":MAILTO:info@UkrHEC.org
END:VEVENT
END:VCALENDAR