BEGIN:VCALENDAR
VERSION:2.0
PRODID:-//Ukrainian American Cultural Center of New Jersey - ECPv6.15.20//NONSGML v1.0//EN
CALSCALE:GREGORIAN
METHOD:PUBLISH
X-WR-CALNAME:Ukrainian American Cultural Center of New Jersey
X-ORIGINAL-URL:https://uaccnj.org
X-WR-CALDESC:Events for Ukrainian American Cultural Center of New Jersey
REFRESH-INTERVAL;VALUE=DURATION:PT1H
X-Robots-Tag:noindex
X-PUBLISHED-TTL:PT1H
BEGIN:VTIMEZONE
TZID:America/New_York
BEGIN:DAYLIGHT
TZOFFSETFROM:-0500
TZOFFSETTO:-0400
TZNAME:EDT
DTSTART:20240310T070000
END:DAYLIGHT
BEGIN:STANDARD
TZOFFSETFROM:-0400
TZOFFSETTO:-0500
TZNAME:EST
DTSTART:20241103T060000
END:STANDARD
BEGIN:DAYLIGHT
TZOFFSETFROM:-0500
TZOFFSETTO:-0400
TZNAME:EDT
DTSTART:20250309T070000
END:DAYLIGHT
BEGIN:STANDARD
TZOFFSETFROM:-0400
TZOFFSETTO:-0500
TZNAME:EST
DTSTART:20251102T060000
END:STANDARD
BEGIN:DAYLIGHT
TZOFFSETFROM:-0500
TZOFFSETTO:-0400
TZNAME:EDT
DTSTART:20260308T070000
END:DAYLIGHT
BEGIN:STANDARD
TZOFFSETFROM:-0400
TZOFFSETTO:-0500
TZNAME:EST
DTSTART:20261101T060000
END:STANDARD
END:VTIMEZONE
BEGIN:VEVENT
DTSTART;TZID=America/New_York:20251221T133000
DTEND;TZID=America/New_York:20251221T160000
DTSTAMP:20260424T033147
CREATED:20251129T031616Z
LAST-MODIFIED:20251129T031616Z
UID:4718-1766323800-1766332800@uaccnj.org
SUMMARY:Коляда з Бандурою
DESCRIPTION:Благодійний Різдвяний Концерт\n21 грудня 1:30.pm\nSt. John the Baptist\, Ukrainian Catholic Church\n60 N Jefferson Rd\, Whippany\, NJ \nКвитки $35 at BandurArts.org\, діти до 10 років безкоштовно
URL:https://uaccnj.org/event/bandura-arts-2025/
LOCATION:St. John the Baptist Ukrainian Catholic Church Whippany NJ\, (973) 887-3616\, 60 N Jefferson Rd\, NJ\, 07981\, United States
CATEGORIES:upcoming events
ATTACH;FMTTYPE=image/jpeg:https://uaccnj.org/wp-content/uploads/2025/11/BanduraArts2025.jpg
END:VEVENT
END:VCALENDAR